BEGIN:VCALENDAR
VERSION:2.0
PRODID:-//Ride Clean Mass - ECPv6.15.17.1//NONSGML v1.0//EN
CALSCALE:GREGORIAN
METHOD:PUBLISH
X-ORIGINAL-URL:https://ridecleanmass.org
X-WR-CALDESC:Events for Ride Clean Mass
REFRESH-INTERVAL;VALUE=DURATION:PT1H
X-Robots-Tag:noindex
X-PUBLISHED-TTL:PT1H
BEGIN:VTIMEZONE
TZID:America/New_York
BEGIN:DAYLIGHT
TZOFFSETFROM:-0500
TZOFFSETTO:-0400
TZNAME:EDT
DTSTART:20230312T070000
END:DAYLIGHT
BEGIN:STANDARD
TZOFFSETFROM:-0400
TZOFFSETTO:-0500
TZNAME:EST
DTSTART:20231105T060000
END:STANDARD
BEGIN:DAYLIGHT
TZOFFSETFROM:-0500
TZOFFSETTO:-0400
TZNAME:EDT
DTSTART:20240310T070000
END:DAYLIGHT
BEGIN:STANDARD
TZOFFSETFROM:-0400
TZOFFSETTO:-0500
TZNAME:EST
DTSTART:20241103T060000
END:STANDARD
BEGIN:DAYLIGHT
TZOFFSETFROM:-0500
TZOFFSETTO:-0400
TZNAME:EDT
DTSTART:20250309T070000
END:DAYLIGHT
BEGIN:STANDARD
TZOFFSETFROM:-0400
TZOFFSETTO:-0500
TZNAME:EST
DTSTART:20251102T060000
END:STANDARD
END:VTIMEZONE
BEGIN:VEVENT
DTSTART;TZID=America/New_York:20241112T100000
DTEND;TZID=America/New_York:20241112T160000
DTSTAMP:20260422T132631
CREATED:20240913T211657Z
LAST-MODIFIED:20241031T184724Z
UID:10000013-1731405600-1731427200@ridecleanmass.org
SUMMARY:Boston Launch Event
DESCRIPTION:Ride Clean Mass helps Uber\, Lyft\, and taxi drivers in Massachusetts switch to electric vehicles (EVs). We offer rebates up to $6\,500 on top of other state and federal incentives and provide support to make this transition easy. Attend our first event on November 12 to learn more and test-drive an electric vehicle!
URL:https://ridecleanmass.org/event/boston-launch-event/
LOCATION:Suffolk Downs\, 525 William F McClellan Highway\, Boston\, 02128\, United States
CATEGORIES:Ride & Drive
ATTACH;FMTTYPE=image/jpeg:https://ridecleanmass.org/wp-content/uploads/2024/08/Yellow_Cab_2022_v2_52007279204-1.jpg
END:VEVENT
END:VCALENDAR